BEGIN:VCALENDAR
VERSION:2.0
PRODID:-//Rantaperki&ouml;n Isku - ECPv6.15.20//NONSGML v1.0//EN
CALSCALE:GREGORIAN
METHOD:PUBLISH
X-WR-CALNAME:Rantaperki&ouml;n Isku
X-ORIGINAL-URL:https://www.rantaperkionisku.com
X-WR-CALDESC:Tapahtumat Rantaperki&ouml;n Isku
REFRESH-INTERVAL;VALUE=DURATION:PT1H
X-Robots-Tag:noindex
X-PUBLISHED-TTL:PT1H
BEGIN:VTIMEZONE
TZID:Europe/Helsinki
BEGIN:DAYLIGHT
TZOFFSETFROM:+0200
TZOFFSETTO:+0300
TZNAME:EEST
DTSTART:20200329T010000
END:DAYLIGHT
BEGIN:STANDARD
TZOFFSETFROM:+0300
TZOFFSETTO:+0200
TZNAME:EET
DTSTART:20201025T010000
END:STANDARD
BEGIN:DAYLIGHT
TZOFFSETFROM:+0200
TZOFFSETTO:+0300
TZNAME:EEST
DTSTART:20210328T010000
END:DAYLIGHT
BEGIN:STANDARD
TZOFFSETFROM:+0300
TZOFFSETTO:+0200
TZNAME:EET
DTSTART:20211031T010000
END:STANDARD
BEGIN:DAYLIGHT
TZOFFSETFROM:+0200
TZOFFSETTO:+0300
TZNAME:EEST
DTSTART:20220327T010000
END:DAYLIGHT
BEGIN:STANDARD
TZOFFSETFROM:+0300
TZOFFSETTO:+0200
TZNAME:EET
DTSTART:20221030T010000
END:STANDARD
END:VTIMEZONE
BEGIN:VEVENT
DTSTART;TZID=Europe/Helsinki:20211030T100000
DTEND;TZID=Europe/Helsinki:20211030T200000
DTSTAMP:20260426T020341
CREATED:20211028T164849Z
LAST-MODIFIED:20211028T164849Z
UID:8007-1635588000-1635624000@www.rantaperkionisku.com
SUMMARY:Kolmen lajin kilpailut
DESCRIPTION:Lajeina joukkuevoimistelu\, rytminen voimistelu\, kilpa-aerobic. Kilpailut alkavat Kauppi Sports Centerissä klo 10! \n\n\n\nTERVETULOA LAJIEN YHTEISEEN KILPAILUTAPAHTUMAAN TAMPEREELLE! \n\n\n\nPääsyliput: yli 15v. 10€\, 7-15v. 5€\, alle 7v. 0€  Maksutapa vain pankki/luottokortti ja mobile pay.
URL:https://www.rantaperkionisku.com/tapahtuma/kolmen-lajin-kilpailut/
CATEGORIES:Joukkuevoimistelu ja tanssi,Tapahtuma- ja ottelukalenteri
END:VEVENT
BEGIN:VEVENT
DTSTART;TZID=Europe/Helsinki:20211031T150000
DTEND;TZID=Europe/Helsinki:20211031T170000
DTSTAMP:20260426T020341
CREATED:20211029T171755Z
LAST-MODIFIED:20211029T171755Z
UID:8051-1635692400-1635699600@www.rantaperkionisku.com
SUMMARY:Miesten 1-sarja: Isku - East Volley
DESCRIPTION:
URL:https://www.rantaperkionisku.com/tapahtuma/miesten-1-sarja-isku-east-volley/
CATEGORIES:Lentopallo,Miehet 1 ottelukalenteri,Tapahtuma- ja ottelukalenteri
END:VEVENT
END:VCALENDAR