BEGIN:VCALENDAR
VERSION:2.0
PRODID:-//Rantaperki&ouml;n Isku - ECPv6.15.20//NONSGML v1.0//EN
CALSCALE:GREGORIAN
METHOD:PUBLISH
X-ORIGINAL-URL:https://www.rantaperkionisku.com
X-WR-CALDESC:Tapahtumat Rantaperki&ouml;n Isku
REFRESH-INTERVAL;VALUE=DURATION:PT1H
X-Robots-Tag:noindex
X-PUBLISHED-TTL:PT1H
BEGIN:VTIMEZONE
TZID:Europe/Helsinki
BEGIN:DAYLIGHT
TZOFFSETFROM:+0200
TZOFFSETTO:+0300
TZNAME:EEST
DTSTART:20210328T010000
END:DAYLIGHT
BEGIN:STANDARD
TZOFFSETFROM:+0300
TZOFFSETTO:+0200
TZNAME:EET
DTSTART:20211031T010000
END:STANDARD
BEGIN:DAYLIGHT
TZOFFSETFROM:+0200
TZOFFSETTO:+0300
TZNAME:EEST
DTSTART:20220327T010000
END:DAYLIGHT
BEGIN:STANDARD
TZOFFSETFROM:+0300
TZOFFSETTO:+0200
TZNAME:EET
DTSTART:20221030T010000
END:STANDARD
BEGIN:DAYLIGHT
TZOFFSETFROM:+0200
TZOFFSETTO:+0300
TZNAME:EEST
DTSTART:20230326T010000
END:DAYLIGHT
BEGIN:STANDARD
TZOFFSETFROM:+0300
TZOFFSETTO:+0200
TZNAME:EET
DTSTART:20231029T010000
END:STANDARD
END:VTIMEZONE
BEGIN:VEVENT
DTSTART;TZID=Europe/Helsinki:20221106T000000
DTEND;TZID=Europe/Helsinki:20221106T000000
DTSTAMP:20260425T034150
CREATED:20220827T141904Z
LAST-MODIFIED:20220827T141904Z
UID:9394-1667692800-1667692800@www.rantaperkionisku.com
SUMMARY:TUL:n Tampereen piirin joukkuevoimistelun välinesarjojen avoimet piirinmestaruuskilpailut
DESCRIPTION:Lisätietoa kilpailusta Kisanetin sivulla!
URL:https://www.rantaperkionisku.com/tapahtuma/tuln-tampereen-piirin-joukkuevoimistelun-valinesarjojen-avoimet-piirinmestaruuskilpailut/
END:VEVENT
BEGIN:VEVENT
DTSTART;TZID=Europe/Helsinki:20221106T180000
DTEND;TZID=Europe/Helsinki:20221106T180000
DTSTAMP:20260425T034150
CREATED:20220927T074040Z
LAST-MODIFIED:20220927T074040Z
UID:9666-1667757600-1667757600@www.rantaperkionisku.com
SUMMARY:Rantaperkiön Isku M2 - Raision Loimu
DESCRIPTION:Miesten 2-sarjan kolmas kotiottelu
URL:https://www.rantaperkionisku.com/tapahtuma/rantaperkion-isku-m2-raision-loimu/
END:VEVENT
BEGIN:VEVENT
DTSTART;TZID=Europe/Helsinki:20221120T170000
DTEND;TZID=Europe/Helsinki:20221120T170000
DTSTAMP:20260425T034150
CREATED:20220901T160451Z
LAST-MODIFIED:20220901T160451Z
UID:9430-1668963600-1668963600@www.rantaperkionisku.com
SUMMARY:Rantaperkiön Isku - Karhulan Veikot
DESCRIPTION:Miesten 1-sarjan toinen kotiottelu
URL:https://www.rantaperkionisku.com/tapahtuma/rantaperkion-isku-karhulan-veikot/
CATEGORIES:Lentopallo,Miehet 1 ottelukalenteri
END:VEVENT
BEGIN:VEVENT
DTSTART;TZID=Europe/Helsinki:20221126T120000
DTEND;TZID=Europe/Helsinki:20221126T120000
DTSTAMP:20260425T034150
CREATED:20220814T090557Z
LAST-MODIFIED:20220814T090557Z
UID:9295-1669464000-1669464000@www.rantaperkionisku.com
SUMMARY:Isku Stara-kilpailut
DESCRIPTION:
URL:https://www.rantaperkionisku.com/tapahtuma/isku-stara-kilpailut/
END:VEVENT
END:VCALENDAR