BEGIN:VCALENDAR
VERSION:2.0
PRODID:-//Rantaperki&ouml;n Isku - ECPv6.15.20//NONSGML v1.0//EN
CALSCALE:GREGORIAN
METHOD:PUBLISH
X-WR-CALNAME:Rantaperki&ouml;n Isku
X-ORIGINAL-URL:https://www.rantaperkionisku.com
X-WR-CALDESC:Tapahtumat Rantaperki&ouml;n Isku
REFRESH-INTERVAL;VALUE=DURATION:PT1H
X-Robots-Tag:noindex
X-PUBLISHED-TTL:PT1H
BEGIN:VTIMEZONE
TZID:Europe/Helsinki
BEGIN:DAYLIGHT
TZOFFSETFROM:+0200
TZOFFSETTO:+0300
TZNAME:EEST
DTSTART:20210328T010000
END:DAYLIGHT
BEGIN:STANDARD
TZOFFSETFROM:+0300
TZOFFSETTO:+0200
TZNAME:EET
DTSTART:20211031T010000
END:STANDARD
BEGIN:DAYLIGHT
TZOFFSETFROM:+0200
TZOFFSETTO:+0300
TZNAME:EEST
DTSTART:20220327T010000
END:DAYLIGHT
BEGIN:STANDARD
TZOFFSETFROM:+0300
TZOFFSETTO:+0200
TZNAME:EET
DTSTART:20221030T010000
END:STANDARD
BEGIN:DAYLIGHT
TZOFFSETFROM:+0200
TZOFFSETTO:+0300
TZNAME:EEST
DTSTART:20230326T010000
END:DAYLIGHT
BEGIN:STANDARD
TZOFFSETFROM:+0300
TZOFFSETTO:+0200
TZNAME:EET
DTSTART:20231029T010000
END:STANDARD
END:VTIMEZONE
BEGIN:VEVENT
DTSTART;TZID=Europe/Helsinki:20221204T120000
DTEND;TZID=Europe/Helsinki:20221204T120000
DTSTAMP:20260425T015213
CREATED:20220927T074703Z
LAST-MODIFIED:20220927T074703Z
UID:9673-1670155200-1670155200@www.rantaperkionisku.com
SUMMARY:Rantaperkiön Isku M2 - TUTO Volley
DESCRIPTION:Miesten 2-sarjan viides kotiottelu
URL:https://www.rantaperkionisku.com/tapahtuma/rantaperkion-isku-m2/
END:VEVENT
BEGIN:VEVENT
DTSTART;TZID=Europe/Helsinki:20221204T170000
DTEND;TZID=Europe/Helsinki:20221204T170000
DTSTAMP:20260425T015213
CREATED:20220901T160654Z
LAST-MODIFIED:20220901T160654Z
UID:9434-1670173200-1670173200@www.rantaperkionisku.com
SUMMARY:Rantaperkiön Isku - EastVolley
DESCRIPTION:Miesten 1-sarjan kolmas kotiottelu
URL:https://www.rantaperkionisku.com/tapahtuma/rantaperkion-isku-eastvolley/
CATEGORIES:Lentopallo,Miehet 1 ottelukalenteri
END:VEVENT
BEGIN:VEVENT
DTSTART;TZID=Europe/Helsinki:20221217T160000
DTEND;TZID=Europe/Helsinki:20221217T180000
DTSTAMP:20260425T015213
CREATED:20221121T163524Z
LAST-MODIFIED:20221121T163524Z
UID:9986-1671292800-1671300000@www.rantaperkionisku.com
SUMMARY:Joulujuhla
DESCRIPTION:Voimistelujaoston joulujuhla harrasteliikunta & joukkuevoimistelu
URL:https://www.rantaperkionisku.com/tapahtuma/joulujuhla/
END:VEVENT
BEGIN:VEVENT
DTSTART;TZID=Europe/Helsinki:20221218T180000
DTEND;TZID=Europe/Helsinki:20221218T180000
DTSTAMP:20260425T015213
CREATED:20220901T160857Z
LAST-MODIFIED:20220901T160857Z
UID:9437-1671386400-1671386400@www.rantaperkionisku.com
SUMMARY:Rantaperkiön Isku - Pielaveden Sampo
DESCRIPTION:Miesten 1-sarjan neljäs ja syyskauden viimeinen kotiottelu
URL:https://www.rantaperkionisku.com/tapahtuma/rantaperkion-isku-pielaveden-sampo/
CATEGORIES:Lentopallo,Miehet 1 ottelukalenteri
END:VEVENT
END:VCALENDAR