BEGIN:VCALENDAR
VERSION:2.0
PRODID:-//Rantaperki&ouml;n Isku - ECPv6.15.20//NONSGML v1.0//EN
CALSCALE:GREGORIAN
METHOD:PUBLISH
X-WR-CALNAME:Rantaperki&ouml;n Isku
X-ORIGINAL-URL:https://www.rantaperkionisku.com
X-WR-CALDESC:Tapahtumat Rantaperki&ouml;n Isku
REFRESH-INTERVAL;VALUE=DURATION:PT1H
X-Robots-Tag:noindex
X-PUBLISHED-TTL:PT1H
BEGIN:VTIMEZONE
TZID:Europe/Helsinki
BEGIN:DAYLIGHT
TZOFFSETFROM:+0200
TZOFFSETTO:+0300
TZNAME:EEST
DTSTART:20220327T010000
END:DAYLIGHT
BEGIN:STANDARD
TZOFFSETFROM:+0300
TZOFFSETTO:+0200
TZNAME:EET
DTSTART:20221030T010000
END:STANDARD
BEGIN:DAYLIGHT
TZOFFSETFROM:+0200
TZOFFSETTO:+0300
TZNAME:EEST
DTSTART:20230326T010000
END:DAYLIGHT
BEGIN:STANDARD
TZOFFSETFROM:+0300
TZOFFSETTO:+0200
TZNAME:EET
DTSTART:20231029T010000
END:STANDARD
BEGIN:DAYLIGHT
TZOFFSETFROM:+0200
TZOFFSETTO:+0300
TZNAME:EEST
DTSTART:20240331T010000
END:DAYLIGHT
BEGIN:STANDARD
TZOFFSETFROM:+0300
TZOFFSETTO:+0200
TZNAME:EET
DTSTART:20241027T010000
END:STANDARD
END:VTIMEZONE
BEGIN:VEVENT
DTSTART;TZID=Europe/Helsinki:20230106T000000
DTEND;TZID=Europe/Helsinki:20230106T000000
DTSTAMP:20260425T000326
CREATED:20230104T195311Z
LAST-MODIFIED:20230104T195311Z
UID:10188-1672963200-1672963200@www.rantaperkionisku.com
SUMMARY:Voimistelijoiden loppiaisleiri
DESCRIPTION:
URL:https://www.rantaperkionisku.com/tapahtuma/voimistelijoiden-loppiaisleiri/
END:VEVENT
BEGIN:VEVENT
DTSTART;TZID=Europe/Helsinki:20230107T170000
DTEND;TZID=Europe/Helsinki:20230107T170000
DTSTAMP:20260425T000326
CREATED:20220901T163312Z
LAST-MODIFIED:20220901T163312Z
UID:9441-1673110800-1673110800@www.rantaperkionisku.com
SUMMARY:Rantaperkiön Isku - Nurmon Jymy
DESCRIPTION:Miesten 1-sarjan kevään ensimmäinen kotiottelu
URL:https://www.rantaperkionisku.com/tapahtuma/rantaperkion-isku-nurmon-jymy/
CATEGORIES:Lentopallo,Miehet 1 ottelukalenteri
END:VEVENT
BEGIN:VEVENT
DTSTART;TZID=Europe/Helsinki:20230115T120000
DTEND;TZID=Europe/Helsinki:20230115T120000
DTSTAMP:20260425T000326
CREATED:20220927T075043Z
LAST-MODIFIED:20220927T075043Z
UID:9678-1673784000-1673784000@www.rantaperkionisku.com
SUMMARY:Rantaperkiön Isku M2 - NarPa
DESCRIPTION:Miesten 2-sarjan kuudes kotiottelu
URL:https://www.rantaperkionisku.com/tapahtuma/rantaperkion-isku-m2-narpa-2/
END:VEVENT
BEGIN:VEVENT
DTSTART;TZID=Europe/Helsinki:20230115T170000
DTEND;TZID=Europe/Helsinki:20230115T170000
DTSTAMP:20260425T000326
CREATED:20220901T163539Z
LAST-MODIFIED:20220901T163539Z
UID:9444-1673802000-1673802000@www.rantaperkionisku.com
SUMMARY:Rantaperkiön Isku - Pälkäneen Luja-Lukko
DESCRIPTION:Miesten 1-sarjan kevään toinen kotiottelu
URL:https://www.rantaperkionisku.com/tapahtuma/rantaperkion-isku-palkaneen-luja-lukko/
CATEGORIES:Lentopallo,Miehet 1 ottelukalenteri
END:VEVENT
BEGIN:VEVENT
DTSTART;TZID=Europe/Helsinki:20230122T170000
DTEND;TZID=Europe/Helsinki:20230122T170000
DTSTAMP:20260425T000326
CREATED:20220901T164035Z
LAST-MODIFIED:20220901T164035Z
UID:9447-1674406800-1674406800@www.rantaperkionisku.com
SUMMARY:Rantaperkiön Isku - Oulun Kisko
DESCRIPTION:Miesten 1-sarjan kevään kolmas kotiottelu
URL:https://www.rantaperkionisku.com/tapahtuma/rantaperkion-isku-oulun-kisko/
CATEGORIES:Lentopallo,Miehet 1 ottelukalenteri
END:VEVENT
BEGIN:VEVENT
DTSTART;TZID=Europe/Helsinki:20230129T120000
DTEND;TZID=Europe/Helsinki:20230129T120000
DTSTAMP:20260425T000326
CREATED:20220927T075302Z
LAST-MODIFIED:20220927T075302Z
UID:9681-1674993600-1674993600@www.rantaperkionisku.com
SUMMARY:Rantaperkiön Isku M2 - Oripään Urheilijat
DESCRIPTION:Miesten 2-sarjan runkosarjan viimeinen kotiottelu
URL:https://www.rantaperkionisku.com/tapahtuma/rantaperkion-isku-m2-oripaan-urheilijat-2/
END:VEVENT
END:VCALENDAR