BEGIN:VCALENDAR
VERSION:2.0
PRODID:-//Rantaperki&ouml;n Isku - ECPv6.15.20//NONSGML v1.0//EN
CALSCALE:GREGORIAN
METHOD:PUBLISH
X-ORIGINAL-URL:https://www.rantaperkionisku.com
X-WR-CALDESC:Tapahtumat Rantaperki&ouml;n Isku
REFRESH-INTERVAL;VALUE=DURATION:PT1H
X-Robots-Tag:noindex
X-PUBLISHED-TTL:PT1H
BEGIN:VTIMEZONE
TZID:Europe/Helsinki
BEGIN:DAYLIGHT
TZOFFSETFROM:+0200
TZOFFSETTO:+0300
TZNAME:EEST
DTSTART:20220327T010000
END:DAYLIGHT
BEGIN:STANDARD
TZOFFSETFROM:+0300
TZOFFSETTO:+0200
TZNAME:EET
DTSTART:20221030T010000
END:STANDARD
BEGIN:DAYLIGHT
TZOFFSETFROM:+0200
TZOFFSETTO:+0300
TZNAME:EEST
DTSTART:20230326T010000
END:DAYLIGHT
BEGIN:STANDARD
TZOFFSETFROM:+0300
TZOFFSETTO:+0200
TZNAME:EET
DTSTART:20231029T010000
END:STANDARD
BEGIN:DAYLIGHT
TZOFFSETFROM:+0200
TZOFFSETTO:+0300
TZNAME:EEST
DTSTART:20240331T010000
END:DAYLIGHT
BEGIN:STANDARD
TZOFFSETFROM:+0300
TZOFFSETTO:+0200
TZNAME:EET
DTSTART:20241027T010000
END:STANDARD
END:VTIMEZONE
BEGIN:VEVENT
DTSTART;TZID=Europe/Helsinki:20230205T170000
DTEND;TZID=Europe/Helsinki:20230205T170000
DTSTAMP:20260424T221815
CREATED:20220901T173745Z
LAST-MODIFIED:20220901T173745Z
UID:9450-1675616400-1675616400@www.rantaperkionisku.com
SUMMARY:Rantaperkiön Isku - Lempo
DESCRIPTION:Miesten 1-sarjan kevään neljäs kotiottelu
URL:https://www.rantaperkionisku.com/tapahtuma/rantaperkion-isku-lempo/
CATEGORIES:Lentopallo,Miehet 1 ottelukalenteri
END:VEVENT
BEGIN:VEVENT
DTSTART;TZID=Europe/Helsinki:20230211T120000
DTEND;TZID=Europe/Helsinki:20230211T180000
DTSTAMP:20260424T221815
CREATED:20230104T200841Z
LAST-MODIFIED:20230104T200841Z
UID:10191-1676116800-1676138400@www.rantaperkionisku.com
SUMMARY:TUL:n ryhmätanssin avoimet mestaruuskilpailut
DESCRIPTION:ja TUL:n disco- ja showtanssin avoimet kilpailut sooloille\, duoille ja trioille
URL:https://www.rantaperkionisku.com/tapahtuma/tuln-ryhmatanssin-avoimet-mestaruuskilpailut-2/
END:VEVENT
BEGIN:VEVENT
DTSTART;TZID=Europe/Helsinki:20230226T170000
DTEND;TZID=Europe/Helsinki:20230226T170000
DTSTAMP:20260424T221815
CREATED:20220901T173928Z
LAST-MODIFIED:20220901T173928Z
UID:9453-1677430800-1677430800@www.rantaperkionisku.com
SUMMARY:Rantaperkiön Isku - Kuortane
DESCRIPTION:Miesten 1-sarjan runkosarjan viimeinen kotiottelu
URL:https://www.rantaperkionisku.com/tapahtuma/rantaperkion-isku-kuortane/
CATEGORIES:Lentopallo,Miehet 1 ottelukalenteri
END:VEVENT
END:VCALENDAR