BEGIN:VCALENDAR
VERSION:2.0
PRODID:-//Rantaperki&ouml;n Isku - ECPv6.15.20//NONSGML v1.0//EN
CALSCALE:GREGORIAN
METHOD:PUBLISH
X-ORIGINAL-URL:https://www.rantaperkionisku.com
X-WR-CALDESC:Tapahtumat Rantaperki&ouml;n Isku
REFRESH-INTERVAL;VALUE=DURATION:PT1H
X-Robots-Tag:noindex
X-PUBLISHED-TTL:PT1H
BEGIN:VTIMEZONE
TZID:Europe/Helsinki
BEGIN:DAYLIGHT
TZOFFSETFROM:+0200
TZOFFSETTO:+0300
TZNAME:EEST
DTSTART:20220327T010000
END:DAYLIGHT
BEGIN:STANDARD
TZOFFSETFROM:+0300
TZOFFSETTO:+0200
TZNAME:EET
DTSTART:20221030T010000
END:STANDARD
BEGIN:DAYLIGHT
TZOFFSETFROM:+0200
TZOFFSETTO:+0300
TZNAME:EEST
DTSTART:20230326T010000
END:DAYLIGHT
BEGIN:STANDARD
TZOFFSETFROM:+0300
TZOFFSETTO:+0200
TZNAME:EET
DTSTART:20231029T010000
END:STANDARD
BEGIN:DAYLIGHT
TZOFFSETFROM:+0200
TZOFFSETTO:+0300
TZNAME:EEST
DTSTART:20240331T010000
END:DAYLIGHT
BEGIN:STANDARD
TZOFFSETFROM:+0300
TZOFFSETTO:+0200
TZNAME:EET
DTSTART:20241027T010000
END:STANDARD
END:VTIMEZONE
BEGIN:VEVENT
DTSTART;TZID=Europe/Helsinki:20230402T000000
DTEND;TZID=Europe/Helsinki:20230402T000000
DTSTAMP:20260424T185014
CREATED:20230218T143223Z
LAST-MODIFIED:20230218T143223Z
UID:10406-1680393600-1680393600@www.rantaperkionisku.com
SUMMARY:Tähtiseura-auditointicamp
DESCRIPTION:
URL:https://www.rantaperkionisku.com/tapahtuma/tahtiseura-auditointicamp/
END:VEVENT
BEGIN:VEVENT
DTSTART;TZID=Europe/Helsinki:20230416T110000
DTEND;TZID=Europe/Helsinki:20230416T200000
DTSTAMP:20260424T185014
CREATED:20230104T201358Z
LAST-MODIFIED:20230104T201358Z
UID:10199-1681642800-1681675200@www.rantaperkionisku.com
SUMMARY:Isku100 JV-Cup & Stara
DESCRIPTION:
URL:https://www.rantaperkionisku.com/tapahtuma/isku100-jv-cup-stara/
END:VEVENT
BEGIN:VEVENT
DTSTART;TZID=Europe/Helsinki:20230422T080000
DTEND;TZID=Europe/Helsinki:20230423T170000
DTSTAMP:20260424T185014
CREATED:20230412T120354Z
LAST-MODIFIED:20230412T120354Z
UID:10663-1682150400-1682269200@www.rantaperkionisku.com
SUMMARY:A-poikien SM-finaalit 2023
DESCRIPTION:Rantaperkiön Isku järjestää A-poikien SM-finaalit Tampereella 2023! Pelipaikkoina toimii Pyynikin palloiluhalli ja Koivistontien koulutalo (Hatanpään Koulu).  Tervetuloa katsomaan Suomen parasta juniorilentopalloa!
URL:https://www.rantaperkionisku.com/tapahtuma/a-poikien-sm-finaalit-2023/
CATEGORIES:Juniorit turnauskalenteri,Lentopallo,Tapahtuma- ja ottelukalenteri
END:VEVENT
END:VCALENDAR