BEGIN:VCALENDAR
VERSION:2.0
PRODID:-//Rantaperki&ouml;n Isku - ECPv6.15.20//NONSGML v1.0//EN
CALSCALE:GREGORIAN
METHOD:PUBLISH
X-ORIGINAL-URL:https://www.rantaperkionisku.com
X-WR-CALDESC:Tapahtumat Rantaperki&ouml;n Isku
REFRESH-INTERVAL;VALUE=DURATION:PT1H
X-Robots-Tag:noindex
X-PUBLISHED-TTL:PT1H
BEGIN:VTIMEZONE
TZID:Europe/Helsinki
BEGIN:DAYLIGHT
TZOFFSETFROM:+0200
TZOFFSETTO:+0300
TZNAME:EEST
DTSTART:20220327T010000
END:DAYLIGHT
BEGIN:STANDARD
TZOFFSETFROM:+0300
TZOFFSETTO:+0200
TZNAME:EET
DTSTART:20221030T010000
END:STANDARD
BEGIN:DAYLIGHT
TZOFFSETFROM:+0200
TZOFFSETTO:+0300
TZNAME:EEST
DTSTART:20230326T010000
END:DAYLIGHT
BEGIN:STANDARD
TZOFFSETFROM:+0300
TZOFFSETTO:+0200
TZNAME:EET
DTSTART:20231029T010000
END:STANDARD
BEGIN:DAYLIGHT
TZOFFSETFROM:+0200
TZOFFSETTO:+0300
TZNAME:EEST
DTSTART:20240331T010000
END:DAYLIGHT
BEGIN:STANDARD
TZOFFSETFROM:+0300
TZOFFSETTO:+0200
TZNAME:EET
DTSTART:20241027T010000
END:STANDARD
END:VTIMEZONE
BEGIN:VEVENT
DTSTART;TZID=Europe/Helsinki:20230606T000000
DTEND;TZID=Europe/Helsinki:20230629T235959
DTSTAMP:20260424T150607
CREATED:20230531T152112Z
LAST-MODIFIED:20230531T152112Z
UID:10891-1686009600-1688083199@www.rantaperkionisku.com
SUMMARY:Lasten kesätoimintaa Hatanpään koululla
DESCRIPTION:tutustu kesätarjontaamme!
URL:https://www.rantaperkionisku.com/tapahtuma/lasten-kesatoimintaa-hatanpaan-koululla/
END:VEVENT
BEGIN:VEVENT
DTSTART;TZID=Europe/Helsinki:20230612T000000
DTEND;TZID=Europe/Helsinki:20230616T000000
DTSTAMP:20260424T150607
CREATED:20230405T111245Z
LAST-MODIFIED:20230405T111245Z
UID:10633-1686528000-1686873600@www.rantaperkionisku.com
SUMMARY:Iskun liikunnallinen kesäleiri
DESCRIPTION:Liikunnallinen kesäleiri 7-12v innokkaille tytöille ja pojille! \n\n\n\nLeirillä päästään tutustumaan lajiohjaajien kanssa erilaisiin lajeihin\, pelataan\, leikitään ja puuhataan yhdessä\, yksilöinä ja pareittain sisällä ja ulkona. Tarkat aikataulut tulevat myöhemmin… \n\n\n\nMissä ja milloin?Hatanpään koulu ja sen ympäristö12.6-16.6.2023Päivisin klo 9-15Leirillä tarjotaan lämmin ruoka.
URL:https://www.rantaperkionisku.com/tapahtuma/iskun-liikunnallinen-kesaleiri/
END:VEVENT
END:VCALENDAR