BEGIN:VCALENDAR
VERSION:2.0
PRODID:-//Rantaperki&ouml;n Isku - ECPv6.15.20//NONSGML v1.0//EN
CALSCALE:GREGORIAN
METHOD:PUBLISH
X-ORIGINAL-URL:https://www.rantaperkionisku.com
X-WR-CALDESC:Tapahtumat Rantaperki&ouml;n Isku
REFRESH-INTERVAL;VALUE=DURATION:PT1H
X-Robots-Tag:noindex
X-PUBLISHED-TTL:PT1H
BEGIN:VTIMEZONE
TZID:Europe/Helsinki
BEGIN:DAYLIGHT
TZOFFSETFROM:+0200
TZOFFSETTO:+0300
TZNAME:EEST
DTSTART:20220327T010000
END:DAYLIGHT
BEGIN:STANDARD
TZOFFSETFROM:+0300
TZOFFSETTO:+0200
TZNAME:EET
DTSTART:20221030T010000
END:STANDARD
BEGIN:DAYLIGHT
TZOFFSETFROM:+0200
TZOFFSETTO:+0300
TZNAME:EEST
DTSTART:20230326T010000
END:DAYLIGHT
BEGIN:STANDARD
TZOFFSETFROM:+0300
TZOFFSETTO:+0200
TZNAME:EET
DTSTART:20231029T010000
END:STANDARD
BEGIN:DAYLIGHT
TZOFFSETFROM:+0200
TZOFFSETTO:+0300
TZNAME:EEST
DTSTART:20240331T010000
END:DAYLIGHT
BEGIN:STANDARD
TZOFFSETFROM:+0300
TZOFFSETTO:+0200
TZNAME:EET
DTSTART:20241027T010000
END:STANDARD
END:VTIMEZONE
BEGIN:VEVENT
DTSTART;TZID=Europe/Helsinki:20231026T174500
DTEND;TZID=Europe/Helsinki:20231026T184500
DTSTAMP:20260424T082930
CREATED:20231019T092445Z
LAST-MODIFIED:20231019T092445Z
UID:224510-1698342300-1698345900@www.rantaperkionisku.com
SUMMARY:Voimistelijoiden kisakatselmus
DESCRIPTION:Kahvio palvelee yleisöä!
URL:https://www.rantaperkionisku.com/tapahtuma/voimistelijoiden-kisakatselmus/
LOCATION:Hatanpään koulu\, Haapakuja 2\, Tampere\, Suomi
CATEGORIES:Joukkuevoimistelu ja tanssi
END:VEVENT
BEGIN:VEVENT
DTSTART;TZID=Europe/Helsinki:20231028T112000
DTEND;TZID=Europe/Helsinki:20231028T121500
DTSTAMP:20260424T082930
CREATED:20231019T092233Z
LAST-MODIFIED:20231022T165213Z
UID:224507-1698492000-1698495300@www.rantaperkionisku.com
SUMMARY:Voimistelujaoston 100v Teemajumppa
DESCRIPTION:Teemana Cardio Kickboxing! Osallistujille jaetaan pieni yllätysmuistaminen :).
URL:https://www.rantaperkionisku.com/tapahtuma/voimistelujaoston-100v-jumppamaraton/
LOCATION:Hatanpään koulu\, Haapakuja 2\, Tampere\, Suomi
CATEGORIES:Aikuisten harrasteliikunta
END:VEVENT
END:VCALENDAR