BEGIN:VCALENDAR
VERSION:2.0
PRODID:-//Rantaperki&ouml;n Isku - ECPv6.15.20//NONSGML v1.0//EN
CALSCALE:GREGORIAN
METHOD:PUBLISH
X-WR-CALNAME:Rantaperki&ouml;n Isku
X-ORIGINAL-URL:https://www.rantaperkionisku.com
X-WR-CALDESC:Tapahtumat Rantaperki&ouml;n Isku
REFRESH-INTERVAL;VALUE=DURATION:PT1H
X-Robots-Tag:noindex
X-PUBLISHED-TTL:PT1H
BEGIN:VTIMEZONE
TZID:Europe/Helsinki
BEGIN:DAYLIGHT
TZOFFSETFROM:+0200
TZOFFSETTO:+0300
TZNAME:EEST
DTSTART:20230326T010000
END:DAYLIGHT
BEGIN:STANDARD
TZOFFSETFROM:+0300
TZOFFSETTO:+0200
TZNAME:EET
DTSTART:20231029T010000
END:STANDARD
BEGIN:DAYLIGHT
TZOFFSETFROM:+0200
TZOFFSETTO:+0300
TZNAME:EEST
DTSTART:20240331T010000
END:DAYLIGHT
BEGIN:STANDARD
TZOFFSETFROM:+0300
TZOFFSETTO:+0200
TZNAME:EET
DTSTART:20241027T010000
END:STANDARD
BEGIN:DAYLIGHT
TZOFFSETFROM:+0200
TZOFFSETTO:+0300
TZNAME:EEST
DTSTART:20250330T010000
END:DAYLIGHT
BEGIN:STANDARD
TZOFFSETFROM:+0300
TZOFFSETTO:+0200
TZNAME:EET
DTSTART:20251026T010000
END:STANDARD
END:VTIMEZONE
BEGIN:VEVENT
DTSTART;VALUE=DATE:20240108
DTEND;VALUE=DATE:20240109
DTSTAMP:20260424T033904
CREATED:20240108T101401Z
LAST-MODIFIED:20240108T101533Z
UID:224734-1704672000-1704758399@www.rantaperkionisku.com
SUMMARY:Aikuisten harrasteliikunnan kevätkausi alkaa
DESCRIPTION:
URL:https://www.rantaperkionisku.com/tapahtuma/aikuisten-harrasteliikunnan-kevatkausi-alkaa/
END:VEVENT
BEGIN:VEVENT
DTSTART;TZID=Europe/Helsinki:20240113T140000
DTEND;TZID=Europe/Helsinki:20240113T170000
DTSTAMP:20260424T033904
CREATED:20240108T091620Z
LAST-MODIFIED:20240108T091620Z
UID:224728-1705154400-1705165200@www.rantaperkionisku.com
SUMMARY:Voimistelujaoston 100v kutsuvierastilaisuus 13.1. klo. 14
DESCRIPTION:Osoite: Puistotorni Hämeenpuisto 28\, 5. krs
URL:https://www.rantaperkionisku.com/tapahtuma/voimistelujaoston-100v-kutsuvierastilaisuus-13-1-klo-14/
END:VEVENT
BEGIN:VEVENT
DTSTART;VALUE=DATE:20240115
DTEND;VALUE=DATE:20240116
DTSTAMP:20260424T033904
CREATED:20240108T101617Z
LAST-MODIFIED:20240108T101617Z
UID:224738-1705276800-1705363199@www.rantaperkionisku.com
SUMMARY:Lasten harrasteliikunnan kevätkausi alkaa
DESCRIPTION:
URL:https://www.rantaperkionisku.com/tapahtuma/lasten-harrasteliikunnan-kevatkausi-alkaa/
END:VEVENT
END:VCALENDAR