BEGIN:VCALENDAR
VERSION:2.0
PRODID:-//Rantaperki&ouml;n Isku - ECPv6.15.20//NONSGML v1.0//EN
CALSCALE:GREGORIAN
METHOD:PUBLISH
X-WR-CALNAME:Rantaperki&ouml;n Isku
X-ORIGINAL-URL:https://www.rantaperkionisku.com
X-WR-CALDESC:Tapahtumat Rantaperki&ouml;n Isku
REFRESH-INTERVAL;VALUE=DURATION:PT1H
X-Robots-Tag:noindex
X-PUBLISHED-TTL:PT1H
BEGIN:VTIMEZONE
TZID:Europe/Helsinki
BEGIN:DAYLIGHT
TZOFFSETFROM:+0200
TZOFFSETTO:+0300
TZNAME:EEST
DTSTART:20230326T010000
END:DAYLIGHT
BEGIN:STANDARD
TZOFFSETFROM:+0300
TZOFFSETTO:+0200
TZNAME:EET
DTSTART:20231029T010000
END:STANDARD
BEGIN:DAYLIGHT
TZOFFSETFROM:+0200
TZOFFSETTO:+0300
TZNAME:EEST
DTSTART:20240331T010000
END:DAYLIGHT
BEGIN:STANDARD
TZOFFSETFROM:+0300
TZOFFSETTO:+0200
TZNAME:EET
DTSTART:20241027T010000
END:STANDARD
BEGIN:DAYLIGHT
TZOFFSETFROM:+0200
TZOFFSETTO:+0300
TZNAME:EEST
DTSTART:20250330T010000
END:DAYLIGHT
BEGIN:STANDARD
TZOFFSETFROM:+0300
TZOFFSETTO:+0200
TZNAME:EET
DTSTART:20251026T010000
END:STANDARD
END:VTIMEZONE
BEGIN:VEVENT
DTSTART;TZID=Europe/Helsinki:20240404T174500
DTEND;TZID=Europe/Helsinki:20240404T183000
DTSTAMP:20260423T232032
CREATED:20240108T101310Z
LAST-MODIFIED:20240403T075436Z
UID:224732-1712252700-1712255400@www.rantaperkionisku.com
SUMMARY:Joukkuevoimistelijoiden kilpailuohjelmien katselmus
DESCRIPTION:
URL:https://www.rantaperkionisku.com/tapahtuma/joukkuevoimistelijoiden-kilpailuohjelmien-katselmus/
LOCATION:Hatanpään koulu\, Haapakuja 2\, Tampere\, Suomi
END:VEVENT
BEGIN:VEVENT
DTSTART;TZID=Europe/Helsinki:20240413T120000
DTEND;TZID=Europe/Helsinki:20240413T200000
DTSTAMP:20260423T232032
CREATED:20231206T110254Z
LAST-MODIFIED:20231206T110653Z
UID:224640-1713009600-1713038400@www.rantaperkionisku.com
SUMMARY:TUL:n Tampereen piirin jv vapaasarjojen kilpailut
DESCRIPTION:13.4. 2024 Tampereella\, järjestävänä seurana Rantaperkiön Isku \nKisasivut KISANETISSÄ
URL:https://www.rantaperkionisku.com/tapahtuma/tuln-tampereen-piirin-jv-vapaasarjojen-kilpailut/
CATEGORIES:Joukkuevoimistelu ja tanssi
END:VEVENT
BEGIN:VEVENT
DTSTART;TZID=Europe/Helsinki:20240414T120000
DTEND;TZID=Europe/Helsinki:20240414T200000
DTSTAMP:20260423T232032
CREATED:20231206T110627Z
LAST-MODIFIED:20231206T110627Z
UID:224642-1713096000-1713124800@www.rantaperkionisku.com
SUMMARY:JV Cup
DESCRIPTION:14.4. 2024 Tampereella\, järjestävänä seurana Rantaperkiön Isku \nKisasivut KISANETISSÄ
URL:https://www.rantaperkionisku.com/tapahtuma/jv-cup/
CATEGORIES:Joukkuevoimistelu ja tanssi
END:VEVENT
END:VCALENDAR