BEGIN:VCALENDAR
VERSION:2.0
PRODID:-//Rantaperki&ouml;n Isku - ECPv6.15.20//NONSGML v1.0//EN
CALSCALE:GREGORIAN
METHOD:PUBLISH
X-WR-CALNAME:Rantaperki&ouml;n Isku
X-ORIGINAL-URL:https://www.rantaperkionisku.com
X-WR-CALDESC:Tapahtumat Rantaperki&ouml;n Isku
REFRESH-INTERVAL;VALUE=DURATION:PT1H
X-Robots-Tag:noindex
X-PUBLISHED-TTL:PT1H
BEGIN:VTIMEZONE
TZID:Europe/Helsinki
BEGIN:DAYLIGHT
TZOFFSETFROM:+0200
TZOFFSETTO:+0300
TZNAME:EEST
DTSTART:20230326T010000
END:DAYLIGHT
BEGIN:STANDARD
TZOFFSETFROM:+0300
TZOFFSETTO:+0200
TZNAME:EET
DTSTART:20231029T010000
END:STANDARD
BEGIN:DAYLIGHT
TZOFFSETFROM:+0200
TZOFFSETTO:+0300
TZNAME:EEST
DTSTART:20240331T010000
END:DAYLIGHT
BEGIN:STANDARD
TZOFFSETFROM:+0300
TZOFFSETTO:+0200
TZNAME:EET
DTSTART:20241027T010000
END:STANDARD
BEGIN:DAYLIGHT
TZOFFSETFROM:+0200
TZOFFSETTO:+0300
TZNAME:EEST
DTSTART:20250330T010000
END:DAYLIGHT
BEGIN:STANDARD
TZOFFSETFROM:+0300
TZOFFSETTO:+0200
TZNAME:EET
DTSTART:20251026T010000
END:STANDARD
END:VTIMEZONE
BEGIN:VEVENT
DTSTART;TZID=Europe/Helsinki:20240804T110000
DTEND;TZID=Europe/Helsinki:20240804T160000
DTSTAMP:20260423T174933
CREATED:20240731T185736Z
LAST-MODIFIED:20240731T185736Z
UID:225314-1722769200-1722787200@www.rantaperkionisku.com
SUMMARY:Hämeenpuiston puistofiesta
DESCRIPTION:https://puistofiesta.tampere.fi/ \nKoko perheen kaupunkitapahtuma Hämeenpuiston Puistofiesta järjestetään sunnuntaina 4.8.2024 klo 11.00–16.00. Mukana myös Rantaperkiön Isku!
URL:https://www.rantaperkionisku.com/tapahtuma/hameenpuiston-puistofiesta-2/
LOCATION:Hämeenpuisto\, Hämeenpuisto\, Tampere\, Suomi
CATEGORIES:Aikuisten harrasteliikunta,Joukkuevoimistelu ja tanssi,Perheliikunta,Tapahtuma
END:VEVENT
BEGIN:VEVENT
DTSTART;TZID=Europe/Helsinki:20240817T100000
DTEND;TZID=Europe/Helsinki:20240817T150000
DTSTAMP:20260423T174933
CREATED:20240731T191015Z
LAST-MODIFIED:20240731T191015Z
UID:225324-1723888800-1723906800@www.rantaperkionisku.com
SUMMARY:Peltsun perhetapahtuma
DESCRIPTION:Mukana tapahtumassa myös Rantaperkiön Isku! Tule mukaan tutustumaan toimintaan!
URL:https://www.rantaperkionisku.com/tapahtuma/peltsun-perhetapahtuma/
LOCATION:Peltolammin koulu\, Säästäjänkatu 16\, Tampere\, 33840\, Suomi
CATEGORIES:Aikuisten harrasteliikunta,Joukkuevoimistelu ja tanssi,Perheliikunta
END:VEVENT
BEGIN:VEVENT
DTSTART;TZID=Europe/Helsinki:20240826T000000
DTEND;TZID=Europe/Helsinki:20240826T000000
DTSTAMP:20260423T174933
CREATED:20240731T191756Z
LAST-MODIFIED:20240731T191756Z
UID:225328-1724630400-1724630400@www.rantaperkionisku.com
SUMMARY:Aikuisten harrasteliikunnan kausi alkaa
DESCRIPTION:
URL:https://www.rantaperkionisku.com/tapahtuma/aikuisten-harrasteliikunnan-kausi-alkaa/
CATEGORIES:Aikuisten harrasteliikunta
END:VEVENT
BEGIN:VEVENT
DTSTART;TZID=Europe/Helsinki:20240826T000000
DTEND;TZID=Europe/Helsinki:20240826T000000
DTSTAMP:20260423T174933
CREATED:20240731T192301Z
LAST-MODIFIED:20240731T192301Z
UID:225332-1724630400-1724630400@www.rantaperkionisku.com
SUMMARY:Lasten harrasteliikunnan kausi alkaa
DESCRIPTION:
URL:https://www.rantaperkionisku.com/tapahtuma/lasten-harrasteliikunnan-kausi-alkaa/
CATEGORIES:Lasten harrasteliikunta,Perheliikunta
END:VEVENT
END:VCALENDAR