BEGIN:VCALENDAR
VERSION:2.0
PRODID:-//Rantaperki&ouml;n Isku - ECPv6.15.20//NONSGML v1.0//EN
CALSCALE:GREGORIAN
METHOD:PUBLISH
X-ORIGINAL-URL:https://www.rantaperkionisku.com
X-WR-CALDESC:Tapahtumat Rantaperki&ouml;n Isku
REFRESH-INTERVAL;VALUE=DURATION:PT1H
X-Robots-Tag:noindex
X-PUBLISHED-TTL:PT1H
BEGIN:VTIMEZONE
TZID:Europe/Helsinki
BEGIN:DAYLIGHT
TZOFFSETFROM:+0200
TZOFFSETTO:+0300
TZNAME:EEST
DTSTART:20230326T010000
END:DAYLIGHT
BEGIN:STANDARD
TZOFFSETFROM:+0300
TZOFFSETTO:+0200
TZNAME:EET
DTSTART:20231029T010000
END:STANDARD
BEGIN:DAYLIGHT
TZOFFSETFROM:+0200
TZOFFSETTO:+0300
TZNAME:EEST
DTSTART:20240331T010000
END:DAYLIGHT
BEGIN:STANDARD
TZOFFSETFROM:+0300
TZOFFSETTO:+0200
TZNAME:EET
DTSTART:20241027T010000
END:STANDARD
BEGIN:DAYLIGHT
TZOFFSETFROM:+0200
TZOFFSETTO:+0300
TZNAME:EEST
DTSTART:20250330T010000
END:DAYLIGHT
BEGIN:STANDARD
TZOFFSETFROM:+0300
TZOFFSETTO:+0200
TZNAME:EET
DTSTART:20251026T010000
END:STANDARD
END:VTIMEZONE
BEGIN:VEVENT
DTSTART;TZID=Europe/Helsinki:20241025T174500
DTEND;TZID=Europe/Helsinki:20241025T174500
DTSTAMP:20260423T150640
CREATED:20240926T123146Z
LAST-MODIFIED:20241023T112017Z
UID:225494-1729878300-1729878300@www.rantaperkionisku.com
SUMMARY:Joukkuevoimistelijoiden kilpailuohjelmien katselmus
DESCRIPTION:
URL:https://www.rantaperkionisku.com/tapahtuma/joukkuevoimistelijoiden-kilpailuohjelmien-katselmus-2/
LOCATION:Hatanpään koulu\, Haapakuja 2\, Tampere\, Suomi
CATEGORIES:Joukkuevoimistelu ja tanssi
END:VEVENT
BEGIN:VEVENT
DTSTART;TZID=Europe/Helsinki:20241027T150000
DTEND;TZID=Europe/Helsinki:20241027T170000
DTSTAMP:20260423T150640
CREATED:20240926T124239Z
LAST-MODIFIED:20240926T124239Z
UID:225498-1730041200-1730048400@www.rantaperkionisku.com
SUMMARY:PerhePomppu - tapahtuma
DESCRIPTION:Liikkumisen riemua koko perheelle temppuillen ja pelaillen! \nPerhePomppu-tapahtumat ovat koko perheen\, (erityisesti alle kouluikäiset lapset) yhteinen liikuntatuokio. Se on perheen yhteistä\, omatoimista liikuntaa. Liikuntatuokiossa lapset tutustuvat liikuntapisteisiin vapaasti oman aikuisen kanssa. Salista on vapaana yksi osa pienimuotoiseen pelailuun. Tapahtumissa on paljon mukavaa puuhaa ja erilaisia liikuntapisteitä. Myös maskottimme\, ihastuttava INTO-pupu\, saattaa vierailla tapahtumissa. Ohjaaja opastaa tarvittaessa. Lapset ovat tapahtumassa vanhempien vastuulla.Tapahtumaan voi tulla silloin\, kun perheelle sopii ja mihin aikana tahansa klo 15.00-17.00 välillä. Ei ennakkoilmoittautumista. Pääsymaksu 5€/perhe (MobilePay\, kortti\, käteinen ja yleisimmät liikuntaedut).
URL:https://www.rantaperkionisku.com/tapahtuma/perhepomppu-tapahtuma/
LOCATION:Hatanpään koulu\, Haapakuja 2\, Tampere\, Suomi
CATEGORIES:Perheliikunta,Tapahtuma
END:VEVENT
END:VCALENDAR