BEGIN:VCALENDAR
VERSION:2.0
PRODID:-//Rantaperki&ouml;n Isku - ECPv6.15.20//NONSGML v1.0//EN
CALSCALE:GREGORIAN
METHOD:PUBLISH
X-WR-CALNAME:Rantaperki&ouml;n Isku
X-ORIGINAL-URL:https://www.rantaperkionisku.com
X-WR-CALDESC:Tapahtumat Rantaperki&ouml;n Isku
REFRESH-INTERVAL;VALUE=DURATION:PT1H
X-Robots-Tag:noindex
X-PUBLISHED-TTL:PT1H
BEGIN:VTIMEZONE
TZID:Europe/Helsinki
BEGIN:DAYLIGHT
TZOFFSETFROM:+0200
TZOFFSETTO:+0300
TZNAME:EEST
DTSTART:20240331T010000
END:DAYLIGHT
BEGIN:STANDARD
TZOFFSETFROM:+0300
TZOFFSETTO:+0200
TZNAME:EET
DTSTART:20241027T010000
END:STANDARD
BEGIN:DAYLIGHT
TZOFFSETFROM:+0200
TZOFFSETTO:+0300
TZNAME:EEST
DTSTART:20250330T010000
END:DAYLIGHT
BEGIN:STANDARD
TZOFFSETFROM:+0300
TZOFFSETTO:+0200
TZNAME:EET
DTSTART:20251026T010000
END:STANDARD
BEGIN:DAYLIGHT
TZOFFSETFROM:+0200
TZOFFSETTO:+0300
TZNAME:EEST
DTSTART:20260329T010000
END:DAYLIGHT
BEGIN:STANDARD
TZOFFSETFROM:+0300
TZOFFSETTO:+0200
TZNAME:EET
DTSTART:20261025T010000
END:STANDARD
END:VTIMEZONE
BEGIN:VEVENT
DTSTART;TZID=Europe/Helsinki:20250107T000000
DTEND;TZID=Europe/Helsinki:20250107T000000
DTSTAMP:20260423T105916
CREATED:20250112T203517Z
LAST-MODIFIED:20250112T203517Z
UID:225663-1736208000-1736208000@www.rantaperkionisku.com
SUMMARY:Aikuisten harrasteliikunnan kausi alkaa
DESCRIPTION:
URL:https://www.rantaperkionisku.com/tapahtuma/aikuisten-harrasteliikunnan-kausi-alkaa-2/
LOCATION:Hatanpään koulu\, Haapakuja 2\, Tampere\, Suomi
CATEGORIES:Aikuisten harrasteliikunta,Tapahtuma- ja ottelukalenteri
END:VEVENT
BEGIN:VEVENT
DTSTART;TZID=Europe/Helsinki:20250113T000000
DTEND;TZID=Europe/Helsinki:20250113T000000
DTSTAMP:20260423T105916
CREATED:20250112T204331Z
LAST-MODIFIED:20250112T204639Z
UID:225665-1736726400-1736726400@www.rantaperkionisku.com
SUMMARY:Lasten harrasteliikunnan kausi alkaa
DESCRIPTION:Hatanpään koulu\, Talvitien PK/koulu\, Peltolammin koulu\, Ratina
URL:https://www.rantaperkionisku.com/tapahtuma/lasten-harrasteliikunnan-kausi-alkaa-2/
CATEGORIES:Lasten harrasteliikunta,Perheliikunta,Tapahtuma- ja ottelukalenteri
END:VEVENT
END:VCALENDAR