BEGIN:VCALENDAR
VERSION:2.0
PRODID:-//Rantaperki&ouml;n Isku - ECPv6.15.20//NONSGML v1.0//EN
CALSCALE:GREGORIAN
METHOD:PUBLISH
X-ORIGINAL-URL:https://www.rantaperkionisku.com
X-WR-CALDESC:Tapahtumat Rantaperki&ouml;n Isku
REFRESH-INTERVAL;VALUE=DURATION:PT1H
X-Robots-Tag:noindex
X-PUBLISHED-TTL:PT1H
BEGIN:VTIMEZONE
TZID:Europe/Helsinki
BEGIN:DAYLIGHT
TZOFFSETFROM:+0200
TZOFFSETTO:+0300
TZNAME:EEST
DTSTART:20240331T010000
END:DAYLIGHT
BEGIN:STANDARD
TZOFFSETFROM:+0300
TZOFFSETTO:+0200
TZNAME:EET
DTSTART:20241027T010000
END:STANDARD
BEGIN:DAYLIGHT
TZOFFSETFROM:+0200
TZOFFSETTO:+0300
TZNAME:EEST
DTSTART:20250330T010000
END:DAYLIGHT
BEGIN:STANDARD
TZOFFSETFROM:+0300
TZOFFSETTO:+0200
TZNAME:EET
DTSTART:20251026T010000
END:STANDARD
BEGIN:DAYLIGHT
TZOFFSETFROM:+0200
TZOFFSETTO:+0300
TZNAME:EEST
DTSTART:20260329T010000
END:DAYLIGHT
BEGIN:STANDARD
TZOFFSETFROM:+0300
TZOFFSETTO:+0200
TZNAME:EET
DTSTART:20261025T010000
END:STANDARD
END:VTIMEZONE
BEGIN:VEVENT
DTSTART;TZID=Europe/Helsinki:20251102T120000
DTEND;TZID=Europe/Helsinki:20251102T200000
DTSTAMP:20260422T211827
CREATED:20250804T125958Z
LAST-MODIFIED:20250920T070149Z
UID:226149-1762084800-1762113600@www.rantaperkionisku.com
SUMMARY:TUL:n Tampereen piirin jv avoimet kilpailut
DESCRIPTION:Rantaperkiön Isku järjestää kilpailut Vuoreksen koululla.
URL:https://www.rantaperkionisku.com/tapahtuma/tuln-tampereen-piirin-jv-avoimet-kilpailut/
LOCATION:Vuoreksen koulu\, Rautiolanrinne 2\, Tampere\, 33870\, Finland
CATEGORIES:Joukkuevoimistelu ja tanssi
END:VEVENT
BEGIN:VEVENT
DTSTART;TZID=Europe/Helsinki:20251130T140000
DTEND;TZID=Europe/Helsinki:20251130T160000
DTSTAMP:20260422T211827
CREATED:20250805T085250Z
LAST-MODIFIED:20251203T102441Z
UID:226182-1764511200-1764518400@www.rantaperkionisku.com
SUMMARY:Perhepomppu
DESCRIPTION:PerhePomppu-tapahtumat ovat koko perheen\, (erityisesti alle kouluikäiset lapset) yhteinen liikuntatuokio. Se on perheen yhteistä\, omatoimista liikuntaa. Liikuntatuokiossa lapset tutustuvat liikuntapisteisiin vapaasti oman aikuisen kanssa. Salista on vapaana yksi osa pienimuotoiseen pelailuun. Tapahtumissa on paljon mukavaa puuhaa ja erilaisia liikuntapisteitä. Myös maskottimme\, ihastuttava INTO-pupu\, saattaa vierailla tapahtumissa. Ohjaaja opastaa tarvittaessa. Lapset ovat tapahtumassa vanhempien vastuulla. \nTapahtumaan voi tulla silloin\, kun perheelle sopii ja mihin aikana tahansa tapahtuma-aikana. Ei ennakkoilmoittautumista. Pääsymaksu 5€/perhe (MobilePay\, kortti\, käteinen ja yleisimmät liikuntaedut).
URL:https://www.rantaperkionisku.com/tapahtuma/perhepomppu-6/
LOCATION:Hatanpään koulu\, Haapakuja 2\, Tampere\, Suomi
CATEGORIES:Lasten harrasteliikunta
END:VEVENT
END:VCALENDAR