BEGIN:VCALENDAR
VERSION:2.0
PRODID:-//Rantaperki&ouml;n Isku - ECPv6.15.20//NONSGML v1.0//EN
CALSCALE:GREGORIAN
METHOD:PUBLISH
X-ORIGINAL-URL:https://www.rantaperkionisku.com
X-WR-CALDESC:Tapahtumat Rantaperki&ouml;n Isku
REFRESH-INTERVAL;VALUE=DURATION:PT1H
X-Robots-Tag:noindex
X-PUBLISHED-TTL:PT1H
BEGIN:VTIMEZONE
TZID:Europe/Helsinki
BEGIN:DAYLIGHT
TZOFFSETFROM:+0200
TZOFFSETTO:+0300
TZNAME:EEST
DTSTART:20240331T010000
END:DAYLIGHT
BEGIN:STANDARD
TZOFFSETFROM:+0300
TZOFFSETTO:+0200
TZNAME:EET
DTSTART:20241027T010000
END:STANDARD
BEGIN:DAYLIGHT
TZOFFSETFROM:+0200
TZOFFSETTO:+0300
TZNAME:EEST
DTSTART:20250330T010000
END:DAYLIGHT
BEGIN:STANDARD
TZOFFSETFROM:+0300
TZOFFSETTO:+0200
TZNAME:EET
DTSTART:20251026T010000
END:STANDARD
BEGIN:DAYLIGHT
TZOFFSETFROM:+0200
TZOFFSETTO:+0300
TZNAME:EEST
DTSTART:20260329T010000
END:DAYLIGHT
BEGIN:STANDARD
TZOFFSETFROM:+0300
TZOFFSETTO:+0200
TZNAME:EET
DTSTART:20261025T010000
END:STANDARD
END:VTIMEZONE
BEGIN:VEVENT
DTSTART;TZID=Europe/Helsinki:20251207T160000
DTEND;TZID=Europe/Helsinki:20251207T183000
DTSTAMP:20260422T195820
CREATED:20251125T162915Z
LAST-MODIFIED:20251125T162915Z
UID:226588-1765123200-1765132200@www.rantaperkionisku.com
SUMMARY:Voimistelujaoston järjestämä joulujuhla
DESCRIPTION:Esiintyjinä lasten harrasteliikunta ja voimistelijat.
URL:https://www.rantaperkionisku.com/tapahtuma/voimistelujaoston-jarjestama-joulujuhla-2/
LOCATION:Hatanpään koulu\, Haapakuja 2\, Tampere\, Suomi
CATEGORIES:Joukkuevoimistelu ja tanssi,Perheliikunta,Tapahtuma,Tapahtuma- ja ottelukalenteri
END:VEVENT
BEGIN:VEVENT
DTSTART;TZID=Europe/Helsinki:20251207T230000
DTEND;TZID=Europe/Helsinki:20251207T233000
DTSTAMP:20260422T195820
CREATED:20250805T085941Z
LAST-MODIFIED:20250805T085941Z
UID:226184-1765148400-1765150200@www.rantaperkionisku.com
SUMMARY:Lasten harrasteliikuntakausi päättyy
DESCRIPTION:
URL:https://www.rantaperkionisku.com/tapahtuma/lasten-harrasteliikuntakausi-paattyy/
CATEGORIES:Lasten harrasteliikunta
END:VEVENT
BEGIN:VEVENT
DTSTART;TZID=Europe/Helsinki:20251213T100000
DTEND;TZID=Europe/Helsinki:20251214T200000
DTSTAMP:20260422T195820
CREATED:20250804T130217Z
LAST-MODIFIED:20250804T130217Z
UID:226152-1765620000-1765742400@www.rantaperkionisku.com
SUMMARY:TUL:n jv avoimet mestaruuskilpailut
DESCRIPTION:Rantaperkiön Isku järjestää kilpailut Vuoreksen koululla.
URL:https://www.rantaperkionisku.com/tapahtuma/tuln-jv-avoimet-mestaruuskilpailut/
LOCATION:Vuoreksen koulu\, Rautiolanrinne 2\, Tampere\, 33870\, Finland
CATEGORIES:Joukkuevoimistelu ja tanssi
END:VEVENT
BEGIN:VEVENT
DTSTART;TZID=Europe/Helsinki:20251213T110000
DTEND;TZID=Europe/Helsinki:20251214T200000
DTSTAMP:20260422T195820
CREATED:20250930T154403Z
LAST-MODIFIED:20250930T154403Z
UID:226340-1765623600-1765742400@www.rantaperkionisku.com
SUMMARY:TUL:n joukkuevoimistelun avoimet mestaruuskilpailut
DESCRIPTION:
URL:https://www.rantaperkionisku.com/tapahtuma/tuln-joukkuevoimistelun-avoimet-mestaruuskilpailut/
LOCATION:Vuoreksen koulu\, Rautiolanrinne 2\, Tampere\, 33870\, Finland
CATEGORIES:Joukkuevoimistelu ja tanssi
END:VEVENT
BEGIN:VEVENT
DTSTART;TZID=Europe/Helsinki:20251214T230000
DTEND;TZID=Europe/Helsinki:20251214T233000
DTSTAMP:20260422T195820
CREATED:20250805T090112Z
LAST-MODIFIED:20250805T090112Z
UID:226186-1765753200-1765755000@www.rantaperkionisku.com
SUMMARY:Aikuisten harrasteliikuntakausi päättyy
DESCRIPTION:
URL:https://www.rantaperkionisku.com/tapahtuma/aikuisten-harrasteliikuntakausi-paattyy/
CATEGORIES:Aikuisten harrasteliikunta
END:VEVENT
END:VCALENDAR