BEGIN:VCALENDAR
VERSION:2.0
PRODID:-//Rantaperki&ouml;n Isku - ECPv6.15.20//NONSGML v1.0//EN
CALSCALE:GREGORIAN
METHOD:PUBLISH
X-ORIGINAL-URL:https://www.rantaperkionisku.com
X-WR-CALDESC:Tapahtumat Rantaperki&ouml;n Isku
REFRESH-INTERVAL;VALUE=DURATION:PT1H
X-Robots-Tag:noindex
X-PUBLISHED-TTL:PT1H
BEGIN:VTIMEZONE
TZID:Europe/Helsinki
BEGIN:DAYLIGHT
TZOFFSETFROM:+0200
TZOFFSETTO:+0300
TZNAME:EEST
DTSTART:20250330T010000
END:DAYLIGHT
BEGIN:STANDARD
TZOFFSETFROM:+0300
TZOFFSETTO:+0200
TZNAME:EET
DTSTART:20251026T010000
END:STANDARD
BEGIN:DAYLIGHT
TZOFFSETFROM:+0200
TZOFFSETTO:+0300
TZNAME:EEST
DTSTART:20260329T010000
END:DAYLIGHT
BEGIN:STANDARD
TZOFFSETFROM:+0300
TZOFFSETTO:+0200
TZNAME:EET
DTSTART:20261025T010000
END:STANDARD
BEGIN:DAYLIGHT
TZOFFSETFROM:+0200
TZOFFSETTO:+0300
TZNAME:EEST
DTSTART:20270328T010000
END:DAYLIGHT
BEGIN:STANDARD
TZOFFSETFROM:+0300
TZOFFSETTO:+0200
TZNAME:EET
DTSTART:20271031T010000
END:STANDARD
END:VTIMEZONE
BEGIN:VEVENT
DTSTART;TZID=Europe/Helsinki:20260112T080000
DTEND;TZID=Europe/Helsinki:20260517T170000
DTSTAMP:20260421T090215
CREATED:20260317T160201Z
LAST-MODIFIED:20260317T160201Z
UID:226881-1768204800-1779037200@www.rantaperkionisku.com
SUMMARY:Harrasteliikunnan (aikuiset ja lapset) kevätkausi 2026
DESCRIPTION:
URL:https://www.rantaperkionisku.com/tapahtuma/harrasteliikunnan-aikuiset-ja-lapset-kevatkausi-2026/
END:VEVENT
BEGIN:VEVENT
DTSTART;TZID=Europe/Helsinki:20260207T120000
DTEND;TZID=Europe/Helsinki:20260207T170000
DTSTAMP:20260421T090215
CREATED:20260205T152418Z
LAST-MODIFIED:20260205T152418Z
UID:226787-1770465600-1770483600@www.rantaperkionisku.com
SUMMARY:Ryhmätanssin® avoimet TUL:n mestaruuskilpailut ja tanssin avoimet kilpailut sooloille\, duoille ja trioille
DESCRIPTION:Tervetuloa Tampereelle Iskun järjestämiin tanssikisoihin\, kilpailuissa nähdään 40 upeaa esitystä eri seuroista ympäri Suomen.
URL:https://www.rantaperkionisku.com/tapahtuma/ryhmatanssin-avoimet-tuln-mestaruuskilpailut-ja-tanssin-avoimet-kilpailut-sooloille-duoille-ja-trioille/
LOCATION:Hatanpään koulu\, Haapakuja 2\, Tampere\, Suomi
END:VEVENT
END:VCALENDAR