BEGIN:VCALENDAR
VERSION:2.0
PRODID:-//Rantaperki&ouml;n Isku - ECPv6.15.20//NONSGML v1.0//EN
CALSCALE:GREGORIAN
METHOD:PUBLISH
X-ORIGINAL-URL:https://www.rantaperkionisku.com
X-WR-CALDESC:Tapahtumat Rantaperki&ouml;n Isku
REFRESH-INTERVAL;VALUE=DURATION:PT1H
X-Robots-Tag:noindex
X-PUBLISHED-TTL:PT1H
BEGIN:VTIMEZONE
TZID:Europe/Helsinki
BEGIN:DAYLIGHT
TZOFFSETFROM:+0200
TZOFFSETTO:+0300
TZNAME:EEST
DTSTART:20190331T010000
END:DAYLIGHT
BEGIN:STANDARD
TZOFFSETFROM:+0300
TZOFFSETTO:+0200
TZNAME:EET
DTSTART:20191027T010000
END:STANDARD
BEGIN:DAYLIGHT
TZOFFSETFROM:+0200
TZOFFSETTO:+0300
TZNAME:EEST
DTSTART:20200329T010000
END:DAYLIGHT
BEGIN:STANDARD
TZOFFSETFROM:+0300
TZOFFSETTO:+0200
TZNAME:EET
DTSTART:20201025T010000
END:STANDARD
BEGIN:DAYLIGHT
TZOFFSETFROM:+0200
TZOFFSETTO:+0300
TZNAME:EEST
DTSTART:20210328T010000
END:DAYLIGHT
BEGIN:STANDARD
TZOFFSETFROM:+0300
TZOFFSETTO:+0200
TZNAME:EET
DTSTART:20211031T010000
END:STANDARD
BEGIN:DAYLIGHT
TZOFFSETFROM:+0200
TZOFFSETTO:+0300
TZNAME:EEST
DTSTART:20220327T010000
END:DAYLIGHT
BEGIN:STANDARD
TZOFFSETFROM:+0300
TZOFFSETTO:+0200
TZNAME:EET
DTSTART:20221030T010000
END:STANDARD
BEGIN:DAYLIGHT
TZOFFSETFROM:+0200
TZOFFSETTO:+0300
TZNAME:EEST
DTSTART:20230326T010000
END:DAYLIGHT
BEGIN:STANDARD
TZOFFSETFROM:+0300
TZOFFSETTO:+0200
TZNAME:EET
DTSTART:20231029T010000
END:STANDARD
END:VTIMEZONE
BEGIN:VEVENT
DTSTART;TZID=Europe/Helsinki:20220803T120000
DTEND;TZID=Europe/Helsinki:20220803T233000
DTSTAMP:20260422T170414
CREATED:20220803T092122Z
LAST-MODIFIED:20220803T092122Z
UID:9244-1659528000-1659569400@www.rantaperkionisku.com
SUMMARY:Syksyn liikuntaryhmien ilmoittautuminen alkaa
DESCRIPTION:Ilmoittaudu lasten\, nuorten ja aikuisten ryhmiin!
URL:https://www.rantaperkionisku.com/tapahtuma/syksyn-liikuntaryhmien-ilmoittautuminen-alkaa/
END:VEVENT
BEGIN:VEVENT
DTSTART;TZID=Europe/Helsinki:20211212T160000
DTEND;TZID=Europe/Helsinki:20211212T180000
DTSTAMP:20260422T170414
CREATED:20211207T081244Z
LAST-MODIFIED:20211207T081244Z
UID:8254-1639324800-1639332000@www.rantaperkionisku.com
SUMMARY:M1: Isku - NaPa
DESCRIPTION:
URL:https://www.rantaperkionisku.com/tapahtuma/m1-isku-napa-2/
CATEGORIES:Miehet 1 ottelukalenteri,Tapahtuma- ja ottelukalenteri
END:VEVENT
BEGIN:VEVENT
DTSTART;TZID=Europe/Helsinki:20211211T173000
DTEND;TZID=Europe/Helsinki:20211211T193000
DTSTAMP:20260422T170414
CREATED:20211207T081101Z
LAST-MODIFIED:20211207T081101Z
UID:8249-1639243800-1639251000@www.rantaperkionisku.com
SUMMARY:M1: Isku - Oulun Kisko
DESCRIPTION:
URL:https://www.rantaperkionisku.com/tapahtuma/m1-isku-oulun-kisko/
CATEGORIES:Miehet 1 ottelukalenteri,Tapahtuma- ja ottelukalenteri
END:VEVENT
BEGIN:VEVENT
DTSTART;TZID=Europe/Helsinki:20211211T100000
DTEND;TZID=Europe/Helsinki:20211212T200000
DTSTAMP:20260422T170414
CREATED:20211028T184110Z
LAST-MODIFIED:20211028T184110Z
UID:8042-1639216800-1639339200@www.rantaperkionisku.com
SUMMARY:TUL:n joukkuevoimistelun avoimet välinesarjojen mestaruuskilpailut
DESCRIPTION:Järjestäjä: Rantaperkiön Iskun voimistelujaosto yhteistyössä TUL:n voimistelu- ja tanssijaoston kanssa \n\n\n\n\n\n\n\n\n\n\n\n\n\nhttps://tul.kisanet.fi/#/event/details/1095/invitation
URL:https://www.rantaperkionisku.com/tapahtuma/tuln-joukkuevoimistelun-avoimet-valinesarjojen-mestaruuskilpailut/
CATEGORIES:Joukkuevoimistelu ja tanssi,Tapahtuma- ja ottelukalenteri
END:VEVENT
BEGIN:VEVENT
DTSTART;TZID=Europe/Helsinki:20211211T100000
DTEND;TZID=Europe/Helsinki:20211211T170000
DTSTAMP:20260422T170414
CREATED:20211121T181224Z
LAST-MODIFIED:20211121T181224Z
UID:8125-1639216800-1639242000@www.rantaperkionisku.com
SUMMARY:Kotiturnaus\, B Punaiset
DESCRIPTION:Pooliturnaus\, A-pooli
URL:https://www.rantaperkionisku.com/tapahtuma/kotiturnaus-b-punaiset/
END:VEVENT
BEGIN:VEVENT
DTSTART;TZID=Europe/Helsinki:20211113T120000
DTEND;TZID=Europe/Helsinki:20211113T190000
DTSTAMP:20260422T170414
CREATED:20211028T183448Z
LAST-MODIFIED:20211028T183448Z
UID:8036-1636804800-1636830000@www.rantaperkionisku.com
SUMMARY:TUL:n Tampereen piirin avoimet joukkuevoimistelun välinesarjojen mestaruuskilpailut
DESCRIPTION:Järjestävät seurat: TUL Tampereen piiri ja Rantaperkiön Isku\, Tampereen Kisatoverit\, Tampereen Sisu\, Tampereen Työväen Naisvoimistelijat\, Viialan Pyry ja Ylöjärven Isku \n\n\n\n\n\n\n\n\n\nhttps://tul.kisanet.fi/#/event/details/1407/invitation
URL:https://www.rantaperkionisku.com/tapahtuma/tuln-tampereen-piirin-avoimet-joukkuevoimistelun-valinesarjojen-mestaruuskilpailut/
CATEGORIES:Joukkuevoimistelu ja tanssi,Tapahtuma- ja ottelukalenteri
END:VEVENT
BEGIN:VEVENT
DTSTART;TZID=Europe/Helsinki:20211107T120000
DTEND;TZID=Europe/Helsinki:20211107T160000
DTSTAMP:20260422T170414
CREATED:20211028T182538Z
LAST-MODIFIED:20211028T182538Z
UID:8027-1636286400-1636300800@www.rantaperkionisku.com
SUMMARY:TUL:n ryhmätanssin® avoimet mestaruuskilpailut
DESCRIPTION:Tarinoista tanssiksi…. Tule seuraamaan ryhmätanssikilpailuja Pyynikin palloiluhallille! Järjestävä seura: Rantaperkiön Isku \n\n\n\nTervetuloa Tampereelle! \n\n\n\nPääsyliput: 10/5€ \n\n\n\n\n\n \n\n\n\nhttps://tul.kisanet.fi/#/event/details/1156/summary
URL:https://www.rantaperkionisku.com/tapahtuma/tuln-ryhmatanssin-avoimet-mestaruuskilpailut/
CATEGORIES:Joukkuevoimistelu ja tanssi,Tapahtuma- ja ottelukalenteri
END:VEVENT
BEGIN:VEVENT
DTSTART;TZID=Europe/Helsinki:20211104T180000
DTEND;TZID=Europe/Helsinki:20211104T190000
DTSTAMP:20260422T170414
CREATED:20211028T165811Z
LAST-MODIFIED:20211028T165811Z
UID:8016-1636048800-1636052400@www.rantaperkionisku.com
SUMMARY:Joukkuevoimistelijoiden kilpaohjelmien katselmus
DESCRIPTION:Tervetuloa seuraamaan jv-joukkueidemme perinteistä kisakatselmusta Hatanpään koululle torstaina 4.11. Katselmus alkaa klo 18\, yleisö pääsee sisään aulaan jo n. 17.30. Aulassa seuratuotteiden myyntipiste ja kahvio. Katselmukseen vapaa pääsy!
URL:https://www.rantaperkionisku.com/tapahtuma/joukkuevoimistelijoiden-kilpaohjelmien-katselmus/
CATEGORIES:Joukkuevoimistelu ja tanssi,Tapahtuma- ja ottelukalenteri
END:VEVENT
BEGIN:VEVENT
DTSTART;TZID=Europe/Helsinki:20211031T150000
DTEND;TZID=Europe/Helsinki:20211031T170000
DTSTAMP:20260422T170414
CREATED:20211029T171755Z
LAST-MODIFIED:20211029T171755Z
UID:8051-1635692400-1635699600@www.rantaperkionisku.com
SUMMARY:Miesten 1-sarja: Isku - East Volley
DESCRIPTION:
URL:https://www.rantaperkionisku.com/tapahtuma/miesten-1-sarja-isku-east-volley/
CATEGORIES:Lentopallo,Miehet 1 ottelukalenteri,Tapahtuma- ja ottelukalenteri
END:VEVENT
BEGIN:VEVENT
DTSTART;TZID=Europe/Helsinki:20211030T100000
DTEND;TZID=Europe/Helsinki:20211030T200000
DTSTAMP:20260422T170414
CREATED:20211028T164849Z
LAST-MODIFIED:20211028T164849Z
UID:8007-1635588000-1635624000@www.rantaperkionisku.com
SUMMARY:Kolmen lajin kilpailut
DESCRIPTION:Lajeina joukkuevoimistelu\, rytminen voimistelu\, kilpa-aerobic. Kilpailut alkavat Kauppi Sports Centerissä klo 10! \n\n\n\nTERVETULOA LAJIEN YHTEISEEN KILPAILUTAPAHTUMAAN TAMPEREELLE! \n\n\n\nPääsyliput: yli 15v. 10€\, 7-15v. 5€\, alle 7v. 0€  Maksutapa vain pankki/luottokortti ja mobile pay.
URL:https://www.rantaperkionisku.com/tapahtuma/kolmen-lajin-kilpailut/
CATEGORIES:Joukkuevoimistelu ja tanssi,Tapahtuma- ja ottelukalenteri
END:VEVENT
BEGIN:VEVENT
DTSTART;TZID=Europe/Helsinki:20210227T170000
DTEND;TZID=Europe/Helsinki:20210227T190000
DTSTAMP:20260422T170414
CREATED:20201021T161254Z
LAST-MODIFIED:20201021T161254Z
UID:5635-1614445200-1614452400@www.rantaperkionisku.com
SUMMARY:M1: Isku - Lempo-Volley
DESCRIPTION:Lentopallon miesten 1-sarjan ottelu. Aikuiset 10 €\, lisenssipelaajat\, opiskelijat\, eläkeläiset 7 €. Alle 14-vuotiaat pääsevät aikuisen seurassa ilmaiseksi.
URL:https://www.rantaperkionisku.com/tapahtuma/m1-isku-lempo-volley/
CATEGORIES:Lentopallo,Miehet 1 ottelukalenteri,Tapahtuma- ja ottelukalenteri
END:VEVENT
BEGIN:VEVENT
DTSTART;TZID=Europe/Helsinki:20210213T170000
DTEND;TZID=Europe/Helsinki:20210213T190000
DTSTAMP:20260422T170414
CREATED:20201021T161025Z
LAST-MODIFIED:20201021T161025Z
UID:5631-1613235600-1613242800@www.rantaperkionisku.com
SUMMARY:M1: Isku - NJ
DESCRIPTION:Lentopallon miesten 1-sarjan ottelu. Aikuiset 10 €\, lisenssipelaajat\, opiskelijat\, eläkeläiset 7 €. Alle 14-vuotiaat pääsevät aikuisen seurassa ilmaiseksi.
URL:https://www.rantaperkionisku.com/tapahtuma/m1-isku-nj/
CATEGORIES:Lentopallo,Miehet 1 ottelukalenteri,Tapahtuma- ja ottelukalenteri
END:VEVENT
BEGIN:VEVENT
DTSTART;TZID=Europe/Helsinki:20210213T120000
DTEND;TZID=Europe/Helsinki:20210213T140000
DTSTAMP:20260422T170414
CREATED:20201021T163532Z
LAST-MODIFIED:20201021T163532Z
UID:5662-1613217600-1613224800@www.rantaperkionisku.com
SUMMARY:N1: Isku - Juju Joensuu
DESCRIPTION:Lentopallon naisten 1-sarjan ottelu. Liput €5\, alle 18v. sisään ilmaiseksi.
URL:https://www.rantaperkionisku.com/tapahtuma/n1-isku-juju-joensuu/
CATEGORIES:Lentopallo,Naiset 1 ottelukalenteri,Tapahtuma- ja ottelukalenteri
END:VEVENT
BEGIN:VEVENT
DTSTART;TZID=Europe/Helsinki:20210124T170000
DTEND;TZID=Europe/Helsinki:20210124T190000
DTSTAMP:20260422T170414
CREATED:20201021T160702Z
LAST-MODIFIED:20201021T160702Z
UID:5628-1611507600-1611514800@www.rantaperkionisku.com
SUMMARY:M1: Isku - NaPa
DESCRIPTION:Lentopallon miesten 1-sarjan ottelu. Aikuiset 10 €\, lisenssipelaajat\, opiskelijat\, eläkeläiset 7 €. Alle 14-vuotiaat pääsevät aikuisen seurassa ilmaiseksi.
URL:https://www.rantaperkionisku.com/tapahtuma/m1-isku-napa/
CATEGORIES:Lentopallo,Miehet 1 ottelukalenteri,Tapahtuma- ja ottelukalenteri
END:VEVENT
BEGIN:VEVENT
DTSTART;TZID=Europe/Helsinki:20210117T120000
DTEND;TZID=Europe/Helsinki:20210117T140000
DTSTAMP:20260422T170414
CREATED:20201021T163355Z
LAST-MODIFIED:20201021T163355Z
UID:5659-1610884800-1610892000@www.rantaperkionisku.com
SUMMARY:N1: Isku - LP Vampula N1
DESCRIPTION:Lentopallon naisten 1-sarjan ottelu. Liput €5\, alle 18v. sisään ilmaiseksi.
URL:https://www.rantaperkionisku.com/tapahtuma/n1-isku-lp-vampula-n1/
CATEGORIES:Lentopallo,Naiset 1 ottelukalenteri,Tapahtuma- ja ottelukalenteri
END:VEVENT
BEGIN:VEVENT
DTSTART;TZID=Europe/Helsinki:20210116T170000
DTEND;TZID=Europe/Helsinki:20210116T190000
DTSTAMP:20260422T170414
CREATED:20201021T160431Z
LAST-MODIFIED:20201021T160431Z
UID:5625-1610816400-1610823600@www.rantaperkionisku.com
SUMMARY:M1: Isku - East Volley
DESCRIPTION:Lentopallon miesten 1-sarjan ottelu. Aikuiset 10 €\, lisenssipelaajat\, opiskelijat\, eläkeläiset 7 €. Alle 14-vuotiaat pääsevät aikuisen seurassa ilmaiseksi.
URL:https://www.rantaperkionisku.com/tapahtuma/m1-isku-east-volley/
CATEGORIES:Lentopallo,Miehet 1 ottelukalenteri,Tapahtuma- ja ottelukalenteri
END:VEVENT
BEGIN:VEVENT
DTSTART;TZID=Europe/Helsinki:20210116T120000
DTEND;TZID=Europe/Helsinki:20210116T140000
DTSTAMP:20260422T170414
CREATED:20201021T163156Z
LAST-MODIFIED:20201021T163156Z
UID:5656-1610798400-1610805600@www.rantaperkionisku.com
SUMMARY:N1: Isku - Kuortane
DESCRIPTION:Lentopallon naisten 1-sarjan ottelu. Liput €5\, alle 18v. sisään ilmaiseksi.
URL:https://www.rantaperkionisku.com/tapahtuma/n1-isku-kuortane/
CATEGORIES:Lentopallo,Naiset 1 ottelukalenteri,Tapahtuma- ja ottelukalenteri
END:VEVENT
BEGIN:VEVENT
DTSTART;TZID=Europe/Helsinki:20210102T120000
DTEND;TZID=Europe/Helsinki:20210102T140000
DTSTAMP:20260422T170414
CREATED:20201021T162917Z
LAST-MODIFIED:20201021T162917Z
UID:5653-1609588800-1609596000@www.rantaperkionisku.com
SUMMARY:N1: Isku - Kiisto
DESCRIPTION:Lentopallon naisten 1-sarjan ottelu. Liput €5\, alle 18v. sisään ilmaiseksi.
URL:https://www.rantaperkionisku.com/tapahtuma/n1-isku-kiisto/
CATEGORIES:Lentopallo,Naiset 1 ottelukalenteri,Tapahtuma- ja ottelukalenteri
END:VEVENT
BEGIN:VEVENT
DTSTART;TZID=Europe/Helsinki:20201219T170000
DTEND;TZID=Europe/Helsinki:20201219T190000
DTSTAMP:20260422T170414
CREATED:20201021T160212Z
LAST-MODIFIED:20201021T160212Z
UID:5622-1608397200-1608404400@www.rantaperkionisku.com
SUMMARY:M1: Isku - KaVe
DESCRIPTION:Lentopallon miesten 1-sarjan ottelu. Aikuiset 10 €\, lisenssipelaajat\, opiskelijat\, eläkeläiset 7 €. Alle 14-vuotiaat pääsevät aikuisen seurassa ilmaiseksi.
URL:https://www.rantaperkionisku.com/tapahtuma/m1-isku-kave/
CATEGORIES:Lentopallo,Miehet 1 ottelukalenteri,Tapahtuma- ja ottelukalenteri
END:VEVENT
BEGIN:VEVENT
DTSTART;TZID=Europe/Helsinki:20201212T170000
DTEND;TZID=Europe/Helsinki:20201212T190000
DTSTAMP:20260422T170414
CREATED:20201021T155939Z
LAST-MODIFIED:20201021T155939Z
UID:5619-1607792400-1607799600@www.rantaperkionisku.com
SUMMARY:M1: Isku - Murikat
DESCRIPTION:Lentopallon miesten 1-sarjan ottelu. Aikuiset 10 €\, lisenssipelaajat\, opiskelijat\, eläkeläiset 7 €. Alle 14-vuotiaat pääsevät aikuisen seurassa ilmaiseksi.
URL:https://www.rantaperkionisku.com/tapahtuma/m1-isku-murikat/
CATEGORIES:Lentopallo,Miehet 1 ottelukalenteri,Tapahtuma- ja ottelukalenteri
END:VEVENT
BEGIN:VEVENT
DTSTART;TZID=Europe/Helsinki:20201212T120000
DTEND;TZID=Europe/Helsinki:20201212T140000
DTSTAMP:20260422T170414
CREATED:20201021T162750Z
LAST-MODIFIED:20201021T162750Z
UID:5650-1607774400-1607781600@www.rantaperkionisku.com
SUMMARY:N1: Isku - LP TuTo
DESCRIPTION:Lentopallon naisten 1-sarjan ottelu. Liput €5\, alle 18v. sisään ilmaiseksi.
URL:https://www.rantaperkionisku.com/tapahtuma/n1-isku-lp-tuto/
CATEGORIES:Lentopallo,Naiset 1 ottelukalenteri,Tapahtuma- ja ottelukalenteri
END:VEVENT
BEGIN:VEVENT
DTSTART;TZID=Europe/Helsinki:20201129T120000
DTEND;TZID=Europe/Helsinki:20201129T140000
DTSTAMP:20260422T170414
CREATED:20201021T162529Z
LAST-MODIFIED:20201021T162529Z
UID:5646-1606651200-1606658400@www.rantaperkionisku.com
SUMMARY:N1: Isku - Kisko
DESCRIPTION:Lentopallon naisten 1-sarjan ottelu. Liput €5\, alle 18v. sisään ilmaiseksi.
URL:https://www.rantaperkionisku.com/tapahtuma/n1-isku-kisko/
CATEGORIES:Lentopallo,Naiset 1 ottelukalenteri,Tapahtuma- ja ottelukalenteri
END:VEVENT
BEGIN:VEVENT
DTSTART;TZID=Europe/Helsinki:20201128T170000
DTEND;TZID=Europe/Helsinki:20201128T190000
DTSTAMP:20260422T170414
CREATED:20201021T155554Z
LAST-MODIFIED:20201021T155554Z
UID:5615-1606582800-1606590000@www.rantaperkionisku.com
SUMMARY:M1: Isku - TUTO Volley
DESCRIPTION:Lentopallon miesten 1-sarjan ottelu. Aikuiset 10 €\, lisenssipelaajat\, opiskelijat\, eläkeläiset 7 €. Alle 14-vuotiaat pääsevät aikuisen seurassa ilmaiseksi.
URL:https://www.rantaperkionisku.com/tapahtuma/m1-isku-tuto-volley/
CATEGORIES:Lentopallo,Miehet 1 ottelukalenteri,Tapahtuma- ja ottelukalenteri
END:VEVENT
BEGIN:VEVENT
DTSTART;TZID=Europe/Helsinki:20201122T120000
DTEND;TZID=Europe/Helsinki:20201122T140000
DTSTAMP:20260422T170414
CREATED:20201021T162136Z
LAST-MODIFIED:20201021T162136Z
UID:5642-1606046400-1606053600@www.rantaperkionisku.com
SUMMARY:N1: Isku - Ploki
DESCRIPTION:Lentopallon naisten 1-sarjan ottelu. Liput €5\, alle 18v. sisään ilmaiseksi.
URL:https://www.rantaperkionisku.com/tapahtuma/n1-isku-ploki/
CATEGORIES:Lentopallo,Naiset 1 ottelukalenteri,Tapahtuma- ja ottelukalenteri
END:VEVENT
BEGIN:VEVENT
DTSTART;TZID=Europe/Helsinki:20201121T120000
DTEND;TZID=Europe/Helsinki:20201121T140000
DTSTAMP:20260422T170414
CREATED:20201021T161717Z
LAST-MODIFIED:20201021T161717Z
UID:5639-1605960000-1605967200@www.rantaperkionisku.com
SUMMARY:N1: Isku - HEL Volley
DESCRIPTION:Lentopallon naisten 1-sarjan ottelu. Liput €5\, alle 18v. sisään ilmaiseksi.
URL:https://www.rantaperkionisku.com/tapahtuma/n1-isku-hel-volley/
CATEGORIES:Lentopallo,Naiset 1 ottelukalenteri,Tapahtuma- ja ottelukalenteri
END:VEVENT
BEGIN:VEVENT
DTSTART;TZID=Europe/Helsinki:20201114T170000
DTEND;TZID=Europe/Helsinki:20201114T190000
DTSTAMP:20260422T170414
CREATED:20201016T082059Z
LAST-MODIFIED:20201016T082059Z
UID:5418-1605373200-1605380400@www.rantaperkionisku.com
SUMMARY:M1: Isku - PäLu
DESCRIPTION:Lentopallon miesten 1-sarjan ottelu. Aikuiset 10 €\, lisenssipelaajat\, opiskelijat\, eläkeläiset 7 €.Alle 14-vuotiaat pääsevät aikuisen seurassa ilmaiseksi.
URL:https://www.rantaperkionisku.com/tapahtuma/m1-isku-palu/
CATEGORIES:Miehet 1 ottelukalenteri,Tapahtuma- ja ottelukalenteri
END:VEVENT
BEGIN:VEVENT
DTSTART;TZID=Europe/Helsinki:20201114T120000
DTEND;TZID=Europe/Helsinki:20201114T170000
DTSTAMP:20260422T170414
CREATED:20201014T125029Z
LAST-MODIFIED:20201014T125029Z
UID:5252-1605355200-1605373200@www.rantaperkionisku.com
SUMMARY:Isku Stara ja JV 8-10v. kilpailu
DESCRIPTION:Lipunmyynti yleisölle vain ennakkoon Rantaperkiön Iskun verkkokaupan kautta. Lisätietoa kilpailuista saat Kisanetistä!
URL:https://www.rantaperkionisku.com/tapahtuma/isku-stara-ja-jv-8-10v-kilpailu/
CATEGORIES:Tapahtuma- ja ottelukalenteri
ATTACH;FMTTYPE=:
END:VEVENT
BEGIN:VEVENT
DTSTART;TZID=Europe/Helsinki:20201114T120000
DTEND;TZID=Europe/Helsinki:20201114T140000
DTSTAMP:20260422T170414
CREATED:20201016T082740Z
LAST-MODIFIED:20201016T082740Z
UID:5422-1605355200-1605362400@www.rantaperkionisku.com
SUMMARY:N1: Isku-PuMa
DESCRIPTION:Lentopallon naisten 1-sarjan ottelu. Liput €5\, alle 18v. sisään ilmaiseksi.
URL:https://www.rantaperkionisku.com/tapahtuma/n1-isku-puma/
CATEGORIES:Lentopallo,Naiset 1 ottelukalenteri,Tapahtuma- ja ottelukalenteri
END:VEVENT
BEGIN:VEVENT
DTSTART;TZID=Europe/Helsinki:20201024T170000
DTEND;TZID=Europe/Helsinki:20201024T190000
DTSTAMP:20260422T170414
CREATED:20201016T081422Z
LAST-MODIFIED:20201016T081422Z
UID:5413-1603558800-1603566000@www.rantaperkionisku.com
SUMMARY:M1: Isku-Sampo
DESCRIPTION:Lentopallon miesten 1-sarjan ottelu. Aikuiset 10 €\, lisenssipelaajat\, opiskelijat\, eläkeläiset 7 €. Alle 14-vuotiaat pääsevät aikuisen seurassa ilmaiseksi.
URL:https://www.rantaperkionisku.com/tapahtuma/m1-isku-sampo/
CATEGORIES:Miehet 1 ottelukalenteri,Tapahtuma- ja ottelukalenteri
END:VEVENT
BEGIN:VEVENT
DTSTART;TZID=Europe/Helsinki:20201024T100000
DTEND;TZID=Europe/Helsinki:20201024T190000
DTSTAMP:20260422T170414
CREATED:20201016T102956Z
LAST-MODIFIED:20201016T102956Z
UID:5466-1603533600-1603566000@www.rantaperkionisku.com
SUMMARY:TUL:n Tampereen piirin avoimet joukkuevoimistelun kilpailut
DESCRIPTION:Lisätietoa Kisanetistä!
URL:https://www.rantaperkionisku.com/tapahtuma/tuln-tampereen-piirin-avoimet-joukkuevoimistelun-kilpailut/
END:VEVENT
END:VCALENDAR