BEGIN:VCALENDAR
VERSION:2.0
PRODID:-//Rantaperki&ouml;n Isku - ECPv6.15.20//NONSGML v1.0//EN
CALSCALE:GREGORIAN
METHOD:PUBLISH
X-WR-CALNAME:Rantaperki&ouml;n Isku
X-ORIGINAL-URL:https://www.rantaperkionisku.com
X-WR-CALDESC:Tapahtumat Rantaperki&ouml;n Isku
REFRESH-INTERVAL;VALUE=DURATION:PT1H
X-Robots-Tag:noindex
X-PUBLISHED-TTL:PT1H
BEGIN:VTIMEZONE
TZID:Europe/Helsinki
BEGIN:DAYLIGHT
TZOFFSETFROM:+0200
TZOFFSETTO:+0300
TZNAME:EEST
DTSTART:20220327T010000
END:DAYLIGHT
BEGIN:STANDARD
TZOFFSETFROM:+0300
TZOFFSETTO:+0200
TZNAME:EET
DTSTART:20221030T010000
END:STANDARD
BEGIN:DAYLIGHT
TZOFFSETFROM:+0200
TZOFFSETTO:+0300
TZNAME:EEST
DTSTART:20230326T010000
END:DAYLIGHT
BEGIN:STANDARD
TZOFFSETFROM:+0300
TZOFFSETTO:+0200
TZNAME:EET
DTSTART:20231029T010000
END:STANDARD
BEGIN:DAYLIGHT
TZOFFSETFROM:+0200
TZOFFSETTO:+0300
TZNAME:EEST
DTSTART:20240331T010000
END:DAYLIGHT
BEGIN:STANDARD
TZOFFSETFROM:+0300
TZOFFSETTO:+0200
TZNAME:EET
DTSTART:20241027T010000
END:STANDARD
END:VTIMEZONE
BEGIN:VEVENT
DTSTART;TZID=Europe/Helsinki:20231119T150000
DTEND;TZID=Europe/Helsinki:20231119T170000
DTSTAMP:20260424T134059
CREATED:20231115T133845Z
LAST-MODIFIED:20231115T133845Z
UID:224593-1700406000-1700413200@www.rantaperkionisku.com
SUMMARY:PerhePomppu100-tapahtuma!
DESCRIPTION:Iskun PerhePomppu on koko perheen yhteinen liikuntatuokio\, joka on suunnattu erityisesti alle kouluikäisille lapsille. Se on perheen yhteistä\, omatoimista liikuntaa. Liikuntatuokiossa lapset tutustuvat erilaisiin välineisiin/telineisiin vapaasti liikuntasalissa oman aikuisen kanssa. Tapahtumassa on paljon mukavaa puuhaa ja erilaisia liikuntapisteitä. Ohjaaja opastaa tarvittaessa. Lapset ovat tapahtumassa vanhempien vastuulla. Tapahtumaan voi tulla silloin\, kun perheelle sopii ja mihin aikaan tahansa klo 15-17 välillä.\nEi ennakkoilmoittautumista\, 5€/perhe. Tervetuloa!
URL:https://www.rantaperkionisku.com/tapahtuma/perhepomppu100-tapahtuma/
LOCATION:Hatanpään koulu\, Haapakuja 2\, Tampere\, Suomi
CATEGORIES:Perheliikunta,Tapahtuma
ATTACH;FMTTYPE=image/png:https://www.rantaperkionisku.com/wp-content/uploads/2023/11/100perhepomppu-e1700118872498.png
END:VEVENT
END:VCALENDAR